BEGIN:VCALENDAR
VERSION:2.0
PRODID:-//jEvents 2.0 for Joomla//EN
CALSCALE:GREGORIAN
METHOD:PUBLISH
BEGIN:VEVENT
UID:2s40oofskdd2bhrp4m0gsb8aog@google.com
CATEGORIES:Schützen
CREATED:20190920T092758
SUMMARY:Altkleidersammlung Pfadfinder
DESCRIPTION;ENCODING=QUOTED-PRINTABLE:
DTSTAMP:20260423T103135Z
DTSTART;VALUE=DATE:20190921
DTEND;VALUE=DATE:20190922
SEQUENCE:0
TRANSP:OPAQUE
END:VEVENT
END:VCALENDAR